BEGIN:VCALENDAR
VERSION:2.0
PRODID:-//Manchester Neurotherapy Centre - ECPv6.15.17.1//NONSGML v1.0//EN
CALSCALE:GREGORIAN
METHOD:PUBLISH
X-ORIGINAL-URL:https://manchesterneurotherapy.co.uk
X-WR-CALDESC:Events for Manchester Neurotherapy Centre
REFRESH-INTERVAL;VALUE=DURATION:PT1H
X-Robots-Tag:noindex
X-PUBLISHED-TTL:PT1H
BEGIN:VTIMEZONE
TZID:Europe/London
BEGIN:DAYLIGHT
TZOFFSETFROM:+0000
TZOFFSETTO:+0100
TZNAME:BST
DTSTART:20220327T010000
END:DAYLIGHT
BEGIN:STANDARD
TZOFFSETFROM:+0100
TZOFFSETTO:+0000
TZNAME:GMT
DTSTART:20221030T010000
END:STANDARD
BEGIN:DAYLIGHT
TZOFFSETFROM:+0000
TZOFFSETTO:+0100
TZNAME:BST
DTSTART:20230326T010000
END:DAYLIGHT
BEGIN:STANDARD
TZOFFSETFROM:+0100
TZOFFSETTO:+0000
TZNAME:GMT
DTSTART:20231029T010000
END:STANDARD
BEGIN:DAYLIGHT
TZOFFSETFROM:+0000
TZOFFSETTO:+0100
TZNAME:BST
DTSTART:20240331T010000
END:DAYLIGHT
BEGIN:STANDARD
TZOFFSETFROM:+0100
TZOFFSETTO:+0000
TZNAME:GMT
DTSTART:20241027T010000
END:STANDARD
END:VTIMEZONE
BEGIN:VEVENT
DTSTART;VALUE=DATE:20230708
DTEND;VALUE=DATE:20230710
DTSTAMP:20260419T233950
CREATED:20221208T115209Z
LAST-MODIFIED:20230218T221106Z
UID:3052-1688774400-1688947199@manchesterneurotherapy.co.uk
SUMMARY:Introduction to Bobath – Module 2
DESCRIPTION:The Integration of Postural Control and Selective Movement for Functional Activities (Part A)\nDuration: All Day Saturday\, Half Day Sunday\nCourse Tutor: Tim Walton\nCourse Description: This BBTA module will include patient demonstrations\, theoretical and practical sessions. It will focus on the assessment and treatment of the acute and sub-acute patient. \nCourse Aims: \n\nTo identify a framework for assessment and treatment of the acute/subacute patient\nTo develop skills of observation\, analysis\, and facilitation in a neurologically intact subject\nTo link the evidence base and clinical practice\n\nLearning Outcomes: \n\nDescribe key components relating to the analysis of position/postural sets (supine and sitting) and movement sequences (supine to sit\, sit to supine)\nAnalyse movement in terms of efficiency and recognise potential causes for lack of efficiency\nUnderstand the wide posture and tonal variations within neurologically intact population\nProblem solve appropriate handling in individual models with respect to facilitation of movement\n\nSuitable for: Qualified Physiotherapists and Occupational Therapists working in neurology \nCost: £225.\nHow to Apply: Please either email your interest to admin@mncweb.co.uk or telephone 0161 7930003
URL:https://manchesterneurotherapy.co.uk/neurological-teaching-centre-course/introduction-bobath-module-2/
LOCATION:Manchester Neurotherapy Centre\, 466 Bolton Road\, Pendlebury\, M27 8UR
CATEGORIES:Introduction to the Bobath Concept
ATTACH;FMTTYPE=image/jpeg:https://manchesterneurotherapy.co.uk/wp-content/uploads/2022/12/course6.jpg
ORGANIZER;CN="Tim Walton":MAILTO:admin@mncweb.co.uk
END:VEVENT
BEGIN:VEVENT
DTSTART;VALUE=DATE:20230715
DTEND;VALUE=DATE:20230717
DTSTAMP:20260419T233950
CREATED:20221208T120616Z
LAST-MODIFIED:20230218T221806Z
UID:3054-1689379200-1689551999@manchesterneurotherapy.co.uk
SUMMARY:Vestibular Course
DESCRIPTION:This two-day course is aimed at physiotherapists working with dizziness patients across within the neurological setting. Common pathologies\, assessment and outcome measures will be presented with time allocated to practice the oculomotor assessment. Treatment and principles of progressions will be outlined and illustrated using several case studies. BPPV will be covered in detail on day two with theory sessions\, observation of eye movement videos and practice of assessment and treatment manoeuvres. Pre-reading will be provided and there will be ample time for questions on both days.     \nDuration: All Day Saturday\, Half Day Sunday\nCourse Tutor: Amanda Male\nLearning Aims: \n\nDevelop knowledge of the vestibular system\nDevelop a working knowledge of the common pathologies\nAcquire skills to conduct an evidence-based assessment of a dizzy patient and differentiate central versus peripheral presentations\nGain an understanding of the treatment approaches and be able to develop an appropriate treatment plan for common pathologies\nIdentify different sub-types of BPPV and recognise when further investigation is required\nBe able to safely undertake positional testing and treatment manoeuvres for the common variants of BPPV (posterior and horizontal canal)\n\nCost: £240.\nHow to Apply: Please either email your interest to admin@mncweb.co.uk or telephone 0161 7930003
URL:https://manchesterneurotherapy.co.uk/neurological-teaching-centre-course/vestibular-course/
LOCATION:Manchester Neurotherapy Centre\, 466 Bolton Road\, Pendlebury\, M27 8UR
ATTACH;FMTTYPE=image/jpeg:https://manchesterneurotherapy.co.uk/wp-content/uploads/2022/12/course1.jpg
ORGANIZER;CN="Sue Armstrong":MAILTO:admin@mncweb.co.uk
END:VEVENT
END:VCALENDAR