BEGIN:VCALENDAR
VERSION:2.0
PRODID:-//Manchester Neurotherapy Centre - ECPv6.15.17.1//NONSGML v1.0//EN
CALSCALE:GREGORIAN
METHOD:PUBLISH
X-ORIGINAL-URL:https://manchesterneurotherapy.co.uk
X-WR-CALDESC:Events for Manchester Neurotherapy Centre
REFRESH-INTERVAL;VALUE=DURATION:PT1H
X-Robots-Tag:noindex
X-PUBLISHED-TTL:PT1H
BEGIN:VTIMEZONE
TZID:Europe/London
BEGIN:DAYLIGHT
TZOFFSETFROM:+0000
TZOFFSETTO:+0100
TZNAME:BST
DTSTART:20210328T010000
END:DAYLIGHT
BEGIN:STANDARD
TZOFFSETFROM:+0100
TZOFFSETTO:+0000
TZNAME:GMT
DTSTART:20211031T010000
END:STANDARD
BEGIN:DAYLIGHT
TZOFFSETFROM:+0000
TZOFFSETTO:+0100
TZNAME:BST
DTSTART:20220327T010000
END:DAYLIGHT
BEGIN:STANDARD
TZOFFSETFROM:+0100
TZOFFSETTO:+0000
TZNAME:GMT
DTSTART:20221030T010000
END:STANDARD
BEGIN:DAYLIGHT
TZOFFSETFROM:+0000
TZOFFSETTO:+0100
TZNAME:BST
DTSTART:20230326T010000
END:DAYLIGHT
BEGIN:STANDARD
TZOFFSETFROM:+0100
TZOFFSETTO:+0000
TZNAME:GMT
DTSTART:20231029T010000
END:STANDARD
END:VTIMEZONE
BEGIN:VEVENT
DTSTART;VALUE=DATE:20220806
DTEND;VALUE=DATE:20220808
DTSTAMP:20260420T145353
CREATED:20220426T093533Z
LAST-MODIFIED:20220426T093533Z
UID:3048-1659744000-1659916799@manchesterneurotherapy.co.uk
SUMMARY:Optimising upper limb recovery in patients with Neuro Dysfunction
DESCRIPTION:Optimising upper limb recovery in patients with Neuro Dysfunction \nDuration: 2 day course \nDuration: All Day Saturday and Half day Sunday \nCourse Tutors: Tim Walton assisted by Linzi Meadows \nCourse Objectives: \n\nIncrease understanding of the dynamic relationship between posture and upper limb activity within function\nIdentify the components required for reach and grasp of the upper limb\nDevelop clinical reasoning skills in the treatment and management of upper limb dysfunction in a neurologically impaired patient\nIncrease confidence in handling and treatment skills of the upper limb\nGenerate discussion about the Systems Approach to upper limb function\n\n  \nCost: £225. \nHow to Apply: Please either email your interest to admin@mncweb.co.uk or telephone 0161 7930003
URL:https://manchesterneurotherapy.co.uk/neurological-teaching-centre-course/optimising-upper-limb-recovery-patients-neuro-dysfunction-2/
LOCATION:Manchester Neurotherapy Centre\, 466 Bolton Road\, Pendlebury\, M27 8UR
ATTACH;FMTTYPE=:
ORGANIZER;CN="Tim Walton assisted by Linzi Meadows":MAILTO:admin@mncweb.co.uk
END:VEVENT
BEGIN:VEVENT
DTSTART;VALUE=DATE:20220812
DTEND;VALUE=DATE:20220814
DTSTAMP:20260420T145353
CREATED:20220426T092243Z
LAST-MODIFIED:20220426T092243Z
UID:1980-1660262400-1660435199@manchesterneurotherapy.co.uk
SUMMARY:Bobath - Module 3
DESCRIPTION:Introduction to Bobath (Module 3) \n The integration of postural control and selective movement for functional activities (Part B) \nDuration: Half Day Friday and All Day Saturday \nCourse Tutor: Sue Armstrong \nCourse Description: This BBTA module will include patient demonstrations\, theoretical and practical sessions. It will focus on the assessment and treatment of the patient with more established movement dysfunction. \nCourse Aims: \n\nTo discuss the pathophysiology and consequences to the patient with established movement dysfunction\nTo develop skills of observation\, analysis\, and facilitation in a neurologically intact subject\nTo link the evidence base and clinical practice\n\nLearning Outcomes: \n\nExplain the pathophysiology and consequences of a Upper Motor Neurone syndrome\nDemonstrate a deeper understanding of postural and tonal variations within the normal population\nProblem solve appropriate handling in neurologically intact models to align/activate distal key points\nDraw upon improved assessment skills to treat a patient with established movement dysfunction\n\n  \nSuitable for: Qualified Physiotherapists and Occupational Therapists working in neurology \nCost: £225. \nHow to Apply: Please either email your interest to admin@mncweb.co.uk or telephone 0161 7930003
URL:https://manchesterneurotherapy.co.uk/neurological-teaching-centre-course/bobath-module-3/
LOCATION:Manchester Neurotherapy Centre\, 466 Bolton Road\, Pendlebury\, M27 8UR
CATEGORIES:Introduction to the Bobath Concept
ATTACH;FMTTYPE=:
ORGANIZER;CN="Sue Armstrong":MAILTO:admin@mncweb.co.uk
END:VEVENT
END:VCALENDAR