BEGIN:VCALENDAR
VERSION:2.0
PRODID:-//Manchester Neurotherapy Centre - ECPv6.15.17.1//NONSGML v1.0//EN
CALSCALE:GREGORIAN
METHOD:PUBLISH
X-ORIGINAL-URL:https://manchesterneurotherapy.co.uk
X-WR-CALDESC:Events for Manchester Neurotherapy Centre
REFRESH-INTERVAL;VALUE=DURATION:PT1H
X-Robots-Tag:noindex
X-PUBLISHED-TTL:PT1H
BEGIN:VTIMEZONE
TZID:Europe/London
BEGIN:DAYLIGHT
TZOFFSETFROM:+0000
TZOFFSETTO:+0100
TZNAME:BST
DTSTART:20220327T010000
END:DAYLIGHT
BEGIN:STANDARD
TZOFFSETFROM:+0100
TZOFFSETTO:+0000
TZNAME:GMT
DTSTART:20221030T010000
END:STANDARD
BEGIN:DAYLIGHT
TZOFFSETFROM:+0000
TZOFFSETTO:+0100
TZNAME:BST
DTSTART:20230326T010000
END:DAYLIGHT
BEGIN:STANDARD
TZOFFSETFROM:+0100
TZOFFSETTO:+0000
TZNAME:GMT
DTSTART:20231029T010000
END:STANDARD
BEGIN:DAYLIGHT
TZOFFSETFROM:+0000
TZOFFSETTO:+0100
TZNAME:BST
DTSTART:20240331T010000
END:DAYLIGHT
BEGIN:STANDARD
TZOFFSETFROM:+0100
TZOFFSETTO:+0000
TZNAME:GMT
DTSTART:20241027T010000
END:STANDARD
END:VTIMEZONE
BEGIN:VEVENT
DTSTART;VALUE=DATE:20231118
DTEND;VALUE=DATE:20231120
DTSTAMP:20260419T190449
CREATED:20240207T120649Z
LAST-MODIFIED:20240207T120722Z
UID:3482-1700265600-1700438399@manchesterneurotherapy.co.uk
SUMMARY:Assistant Course: Optimising Recovery of Upper Limb Function specific to reaching and grasping - Course 3
DESCRIPTION:Optimising Recovery of Upper Limb Function specific to reaching and grasping – Course 3 \n Designed for physiotherapy assistants and carers working with individuals living with a neurological condition. \nDuration: Full Day Saturday \nCourse Tutors: Claudio Bellani  and Alessandro Uva \nCourse Description:  A one day workshop looking at the fundamentals of how we perform reach and grasp in daily activities.  \nCourse Aims:\nTo give the participants practical skills and knowledge of how they can use this to optimise their patient’s performance in day to day activities such as feeding\, dressing and movement between postures. \nCourse number three of three\, when combined these courses aim to improve the participants: \n\nknowledge of analysing how their clients are moving and the impact this is may be having on their functional performance in everyday activities\nTo adapt their own handling to optimise their client’s movement performance\nTo help them to support their clients to meet their rehabilitation goals\n\n  \nSuitable for: Physiotherapy assistants and carers working with individuals living with a neurological condition \nCost: £100. \nHow to Apply: Please either email your interest to admin@mncweb.co.uk or telephone 0161 7930003
URL:https://manchesterneurotherapy.co.uk/neurological-teaching-centre-course/assistant-course-optimising-recovery-of-upper-limb-function-specific-to-reaching-and-grasping-course-3/
LOCATION:Manchester Neurotherapy Centre\, 466 Bolton Road\, Pendlebury\, M27 8UR
ATTACH;FMTTYPE=image/jpeg:https://manchesterneurotherapy.co.uk/wp-content/uploads/2024/02/course6-600x398-1.jpg
END:VEVENT
END:VCALENDAR