BEGIN:VCALENDAR
VERSION:2.0
PRODID:-//Manchester Neurotherapy Centre - ECPv6.15.17.1//NONSGML v1.0//EN
CALSCALE:GREGORIAN
METHOD:PUBLISH
X-WR-CALNAME:Manchester Neurotherapy Centre
X-ORIGINAL-URL:https://manchesterneurotherapy.co.uk
X-WR-CALDESC:Events for Manchester Neurotherapy Centre
REFRESH-INTERVAL;VALUE=DURATION:PT1H
X-Robots-Tag:noindex
X-PUBLISHED-TTL:PT1H
BEGIN:VTIMEZONE
TZID:Europe/London
BEGIN:DAYLIGHT
TZOFFSETFROM:+0000
TZOFFSETTO:+0100
TZNAME:BST
DTSTART:20220327T010000
END:DAYLIGHT
BEGIN:STANDARD
TZOFFSETFROM:+0100
TZOFFSETTO:+0000
TZNAME:GMT
DTSTART:20221030T010000
END:STANDARD
BEGIN:DAYLIGHT
TZOFFSETFROM:+0000
TZOFFSETTO:+0100
TZNAME:BST
DTSTART:20230326T010000
END:DAYLIGHT
BEGIN:STANDARD
TZOFFSETFROM:+0100
TZOFFSETTO:+0000
TZNAME:GMT
DTSTART:20231029T010000
END:STANDARD
BEGIN:DAYLIGHT
TZOFFSETFROM:+0000
TZOFFSETTO:+0100
TZNAME:BST
DTSTART:20240331T010000
END:DAYLIGHT
BEGIN:STANDARD
TZOFFSETFROM:+0100
TZOFFSETTO:+0000
TZNAME:GMT
DTSTART:20241027T010000
END:STANDARD
END:VTIMEZONE
BEGIN:VEVENT
DTSTART;VALUE=DATE:20230616
DTEND;VALUE=DATE:20230618
DTSTAMP:20260420T021926
CREATED:20221208T113128Z
LAST-MODIFIED:20230218T220744Z
UID:3050-1686873600-1687046399@manchesterneurotherapy.co.uk
SUMMARY:BBTA Workshop: Ataxia
DESCRIPTION:Duration: Full Day Saturday and Sunday\nCourse Tutor: Sue Armstrong\nCourse objectives: \nThis course will focus on the principles of  rehabilitation for  ataxic  presentations . We will review basic relevant neuroscience of the cerebellum and brainstem\, as well as an update of current relevant research\, with link to clinical presentations and interventions\, including a clinical reasoning focused patient workshop and practical sessions. The practical sessions will cover assessment of postural control\, movement analysis and movement control\, and skill development relevant for common clinical issues\, including central vestibular integration with balance. \nThe course is suitable for qualified PT’s and OT’s who work in neurological rehabilitation\, While it is helpful to have attended previous BBTA courses\, it is not a pre-requisite.  \nCost: £240.\nHow to Apply: Please either email your interest to admin@mncweb.co.uk or telephone 0161 7930003
URL:https://manchesterneurotherapy.co.uk/neurological-teaching-centre-course/bbta-workshop-ataxia/
LOCATION:Manchester Neurotherapy Centre\, 466 Bolton Road\, Pendlebury\, M27 8UR
ATTACH;FMTTYPE=image/jpeg:https://manchesterneurotherapy.co.uk/wp-content/uploads/2022/12/course5.jpg
ORGANIZER;CN="Sue Armstrong":MAILTO:admin@mncweb.co.uk
END:VEVENT
END:VCALENDAR