BEGIN:VCALENDAR
VERSION:2.0
PRODID:-//Manchester Neurotherapy Centre - ECPv6.15.17.1//NONSGML v1.0//EN
CALSCALE:GREGORIAN
METHOD:PUBLISH
X-WR-CALNAME:Manchester Neurotherapy Centre
X-ORIGINAL-URL:https://manchesterneurotherapy.co.uk
X-WR-CALDESC:Events for Manchester Neurotherapy Centre
REFRESH-INTERVAL;VALUE=DURATION:PT1H
X-Robots-Tag:noindex
X-PUBLISHED-TTL:PT1H
BEGIN:VTIMEZONE
TZID:Europe/London
BEGIN:DAYLIGHT
TZOFFSETFROM:+0000
TZOFFSETTO:+0100
TZNAME:BST
DTSTART:20220327T010000
END:DAYLIGHT
BEGIN:STANDARD
TZOFFSETFROM:+0100
TZOFFSETTO:+0000
TZNAME:GMT
DTSTART:20221030T010000
END:STANDARD
BEGIN:DAYLIGHT
TZOFFSETFROM:+0000
TZOFFSETTO:+0100
TZNAME:BST
DTSTART:20230326T010000
END:DAYLIGHT
BEGIN:STANDARD
TZOFFSETFROM:+0100
TZOFFSETTO:+0000
TZNAME:GMT
DTSTART:20231029T010000
END:STANDARD
BEGIN:DAYLIGHT
TZOFFSETFROM:+0000
TZOFFSETTO:+0100
TZNAME:BST
DTSTART:20240331T010000
END:DAYLIGHT
BEGIN:STANDARD
TZOFFSETFROM:+0100
TZOFFSETTO:+0000
TZNAME:GMT
DTSTART:20241027T010000
END:STANDARD
END:VTIMEZONE
BEGIN:VEVENT
DTSTART;VALUE=DATE:20230225
DTEND;VALUE=DATE:20230227
DTSTAMP:20260420T080124
CREATED:20221208T110112Z
LAST-MODIFIED:20230218T220216Z
UID:2020-1677283200-1677455999@manchesterneurotherapy.co.uk
SUMMARY:BBTA Optimising Rehabilitation in Clients with Incomplete Spinal Cord Injury (ISCI)
DESCRIPTION:Problem solving workshop\nDuration: Full Day Saturday and Sunday\nCourse Tutor: Sue Armstrong\nLearning objectives: \n\nUpdate on current evidence underpinning rehabilitation of ISCI within the context of the contemporary Bobath Concept\nExplore common clinical issues such as:\n\noptimising postural control\nmodulation of tone and movement\nimproving efficiency in gait\noptimising upper limb rehabilitation\n\n\nBuild on assessment\, analysis and clinical reasoning skills\nExplore assessment\, interventions and clinical reasoning within clinical workshop settings\nEnhance movement control analysis and intervention skills within the practical movement control sessions\nTime for discussion\, questions and peer learning!\n\nCost: £240.\nHow to Apply: Please either email your interest to admin@mncweb.co.uk or telephone 0161 7930003
URL:https://manchesterneurotherapy.co.uk/neurological-teaching-centre-course/bbta-optimising-rehabilitation-clients-incomplete-spinal-cord-injury-isci/
LOCATION:Manchester Neurotherapy Centre\, 466 Bolton Road\, Pendlebury\, M27 8UR
ATTACH;FMTTYPE=image/jpeg:https://manchesterneurotherapy.co.uk/wp-content/uploads/2022/12/course2.jpg
ORGANIZER;CN="Sue Armstrong":MAILTO:admin@mncweb.co.uk
END:VEVENT
END:VCALENDAR