BEGIN:VCALENDAR
VERSION:2.0
PRODID:-//Manchester Neurotherapy Centre - ECPv6.15.17.1//NONSGML v1.0//EN
CALSCALE:GREGORIAN
METHOD:PUBLISH
X-WR-CALNAME:Manchester Neurotherapy Centre
X-ORIGINAL-URL:https://manchesterneurotherapy.co.uk
X-WR-CALDESC:Events for Manchester Neurotherapy Centre
REFRESH-INTERVAL;VALUE=DURATION:PT1H
X-Robots-Tag:noindex
X-PUBLISHED-TTL:PT1H
BEGIN:VTIMEZONE
TZID:Europe/London
BEGIN:DAYLIGHT
TZOFFSETFROM:+0000
TZOFFSETTO:+0100
TZNAME:BST
DTSTART:20210328T010000
END:DAYLIGHT
BEGIN:STANDARD
TZOFFSETFROM:+0100
TZOFFSETTO:+0000
TZNAME:GMT
DTSTART:20211031T010000
END:STANDARD
BEGIN:DAYLIGHT
TZOFFSETFROM:+0000
TZOFFSETTO:+0100
TZNAME:BST
DTSTART:20220327T010000
END:DAYLIGHT
BEGIN:STANDARD
TZOFFSETFROM:+0100
TZOFFSETTO:+0000
TZNAME:GMT
DTSTART:20221030T010000
END:STANDARD
BEGIN:DAYLIGHT
TZOFFSETFROM:+0000
TZOFFSETTO:+0100
TZNAME:BST
DTSTART:20230326T010000
END:DAYLIGHT
BEGIN:STANDARD
TZOFFSETFROM:+0100
TZOFFSETTO:+0000
TZNAME:GMT
DTSTART:20231029T010000
END:STANDARD
END:VTIMEZONE
BEGIN:VEVENT
DTSTART;VALUE=DATE:20221001
DTEND;VALUE=DATE:20221002
DTSTAMP:20260420T133349
CREATED:20220426T095528Z
LAST-MODIFIED:20220426T095528Z
UID:1993-1664582400-1664668799@manchesterneurotherapy.co.uk
SUMMARY:Assistant Course: Optimising Recovery of Gait - Course 2
DESCRIPTION:Optimising Recovery of Gait – Course 2 \n Designed for physiotherapy assistants and carers working with individuals living with a neurological condition. \nDuration: Full Day Saturday \nCourse Tutors: Claudio Bellani and Alessandro Uva \nCourse Description:  One day workshop that aims to give a basic understanding of the gait cycle\, and the common problems that can occur with walking following a neurological injury.  \nCourse Aims:\nPractically the workshop will be walking through handling and use of suitable walking aids/equipment.  \nCourse number two of three\, when combined these courses aim to improve the participants: \n\nknowledge of analysing how their clients are moving and the impact this is may be having on their functional performance in everyday activities\nTo adapt their own handling to optimise their client’s movement performance\nTo help them to support their clients to meet their rehabilitation goals\n\n  \nSuitable for: Physiotherapy assistants and carers working with individuals living with a neurological condition \nCost: £100. \nHow to Apply: Please either email your interest to admin@mncweb.co.uk or telephone 0161 7930003
URL:https://manchesterneurotherapy.co.uk/neurological-teaching-centre-course/assistant-course-optimising-recovery-gait-course-2-2/
LOCATION:Manchester Neurotherapy Centre\, 466 Bolton Road\, Pendlebury\, M27 8UR
CATEGORIES:Therapy Assistant
ATTACH;FMTTYPE=:
END:VEVENT
END:VCALENDAR