BEGIN:VCALENDAR
VERSION:2.0
PRODID:-//Manchester Neurotherapy Centre - ECPv6.15.17.1//NONSGML v1.0//EN
CALSCALE:GREGORIAN
METHOD:PUBLISH
X-ORIGINAL-URL:https://manchesterneurotherapy.co.uk
X-WR-CALDESC:Events for Manchester Neurotherapy Centre
REFRESH-INTERVAL;VALUE=DURATION:PT1H
X-Robots-Tag:noindex
X-PUBLISHED-TTL:PT1H
BEGIN:VTIMEZONE
TZID:Europe/London
BEGIN:DAYLIGHT
TZOFFSETFROM:+0000
TZOFFSETTO:+0100
TZNAME:BST
DTSTART:20210328T010000
END:DAYLIGHT
BEGIN:STANDARD
TZOFFSETFROM:+0100
TZOFFSETTO:+0000
TZNAME:GMT
DTSTART:20211031T010000
END:STANDARD
BEGIN:DAYLIGHT
TZOFFSETFROM:+0000
TZOFFSETTO:+0100
TZNAME:BST
DTSTART:20220327T010000
END:DAYLIGHT
BEGIN:STANDARD
TZOFFSETFROM:+0100
TZOFFSETTO:+0000
TZNAME:GMT
DTSTART:20221030T010000
END:STANDARD
BEGIN:DAYLIGHT
TZOFFSETFROM:+0000
TZOFFSETTO:+0100
TZNAME:BST
DTSTART:20230326T010000
END:DAYLIGHT
BEGIN:STANDARD
TZOFFSETFROM:+0100
TZOFFSETTO:+0000
TZNAME:GMT
DTSTART:20231029T010000
END:STANDARD
END:VTIMEZONE
BEGIN:VEVENT
DTSTART;VALUE=DATE:20220708
DTEND;VALUE=DATE:20220710
DTSTAMP:20260420T172653
CREATED:20220426T091403Z
LAST-MODIFIED:20220426T091403Z
UID:1976-1657238400-1657411199@manchesterneurotherapy.co.uk
SUMMARY:Bobath - Module 2
DESCRIPTION:Introduction to Bobath (Module 2) \n The Integration of Postural Control and Selective Movement for Functional Activities (Part A) \nDuration: Half Day Friday and All Day Saturday \nCourse Tutor: Sue Armstrong \nCourse Description: This BBTA module will include patient demonstrations\, theoretical and practical sessions. It will focus on the assessment and treatment of the acute and sub-acute patient. \nCourse Aims: \n\nTo identify a framework for assessment and treatment of the acute/subacute patient\nTo develop skills of observation\, analysis\, and facilitation in a neurologically intact subject\nTo link the evidence base and clinical practice\n\nLearning Outcomes: \n\nDescribe key components relating to the analysis of position/postural sets (supine and sitting) and movement sequences (supine to sit\, sit to supine)\nAnalyse movement in terms of efficiency and recognise potential causes for lack of efficiency\nUnderstand the wide posture and tonal variations within neurologically intact population\nProblem solve appropriate handling in individual models with respect to facilitation of movement\n\n  \nSuitable for: Qualified Physiotherapists and Occupational Therapists working in neurology \n  \nCost: £225. \nHow to Apply: \nPlease either email your interest to admin@mncweb.co.uk or telephone on 0161 7930003.
URL:https://manchesterneurotherapy.co.uk/neurological-teaching-centre-course/bobath-module-2/
LOCATION:Manchester Neurotherapy Centre\, 466 Bolton Road\, Pendlebury\, M27 8UR
CATEGORIES:Introduction to the Bobath Concept
ATTACH;FMTTYPE=:
ORGANIZER;CN="Sue Armstrong":MAILTO:admin@mncweb.co.uk
END:VEVENT
END:VCALENDAR